BEGIN:VCALENDAR
VERSION:2.0
PRODID:-//Lelek Akademie - ECPv6.15.20//NONSGML v1.0//EN
CALSCALE:GREGORIAN
METHOD:PUBLISH
X-WR-CALNAME:Lelek Akademie
X-ORIGINAL-URL:https://lelek.at
X-WR-CALDESC:Veranstaltungen für Lelek Akademie
REFRESH-INTERVAL;VALUE=DURATION:PT1H
X-Robots-Tag:noindex
X-PUBLISHED-TTL:PT1H
BEGIN:VTIMEZONE
TZID:Europe/Vienna
BEGIN:DAYLIGHT
TZOFFSETFROM:+0100
TZOFFSETTO:+0200
TZNAME:CEST
DTSTART:20240331T010000
END:DAYLIGHT
BEGIN:STANDARD
TZOFFSETFROM:+0200
TZOFFSETTO:+0100
TZNAME:CET
DTSTART:20241027T010000
END:STANDARD
BEGIN:DAYLIGHT
TZOFFSETFROM:+0100
TZOFFSETTO:+0200
TZNAME:CEST
DTSTART:20250330T010000
END:DAYLIGHT
BEGIN:STANDARD
TZOFFSETFROM:+0200
TZOFFSETTO:+0100
TZNAME:CET
DTSTART:20251026T010000
END:STANDARD
BEGIN:DAYLIGHT
TZOFFSETFROM:+0100
TZOFFSETTO:+0200
TZNAME:CEST
DTSTART:20260329T010000
END:DAYLIGHT
BEGIN:STANDARD
TZOFFSETFROM:+0200
TZOFFSETTO:+0100
TZNAME:CET
DTSTART:20261025T010000
END:STANDARD
END:VTIMEZONE
BEGIN:VEVENT
DTSTART;TZID=Europe/Vienna:20250218T180000
DTEND;TZID=Europe/Vienna:20251125T210000
DTSTAMP:20260426T061959
CREATED:20250111T052545Z
LAST-MODIFIED:20250111T063553Z
UID:2117-1739901600-1764104400@lelek.at
SUMMARY:Kursreihe - Fachkraft für Entwicklungsbegleitung
DESCRIPTION:1o Zoomabende bestehend aus 2 Teilen – 40 Unterrichtseinheiten. Kosten € 699\,00\nStehst du manchmal an deinen Grenzen? Bist du dir nicht sicher\, ob die Entwicklung eines Kindes mehr Inputs von dir braucht? Fragst du dich\, wie du gute Gespräche mit Erziehungsberechtigte/Eltern zum Thema Entwicklung führst? Hast du manchmal das Gefühl\, dass viele Kinder mit Diagnosen von Autismus\, ADHS\, sensorische Störungen kommen und fragst du dich\, wie die die Entwicklung der Kinder gut begleiten kannst?\nDann ist diese Kursreihe die richtige für dich\, denn diese Kursreihe setzt sich mit den Entwicklungseckpfeilern\, Entwicklungsherausforderungen und möglichen Graubereichen im Entwicklungsbereich auseinander. \nFür welche Menschen ist die Weiterbildung empfehlenswert:\nElementarpädagog*innen\, Kindergruppenbetreuungspersonen\, Betreuer:innen in TBE\, Kinderbildungseinrichtungen\, Erzieher:innen\, Krippenpädagog:innen\, Tagesmütter\, Tagesväter und alle anderen Interessierten\, die sich für den Bereich Entwicklung- und Entwicklungsstörung interessieren. \nInhalt: \nDer Schwerpunkt dieser Weiterbildungs-Kursreihe liegt darin\, pädagogischen Fachkräften Instrumente an die Hand zu geben\, wie sie in verschiedenen Situationen entwicklungssensitiv reagieren und die Entwicklung von Kindern wo notwendig fördern können. Es wird in der Kursreihe darauf geachtet\, dass Grundlagenwissen über die Entwicklung und momentan gängige Entwicklungsstörungen bekannt sind\, Methoden zur Begleitung durch weitergegeben werden und Austausch zu aktuellen Situationen in den elementaren Bildungseinrichtungen besprochen werden. \nDie Kursreihe ersetzt nicht den Weg zur Kinderspychologin\, dem Diagnostikzentrum oder den Beginn von notwendigen Therapien und Eltern sollten angehalten werden\, hier auch wichtige Schritte umzusetzen. Die Kursreihe unterstützt das pädagogische Personal in der Einrichtung dabei sensibel auf mögliche Thematiken zu werden\, aber auch Sicherheit im Umgang mit den alltäglichen Situationen in KiGa\, KiTa\, KiGru\, TBE und anderen Bildungseinrichtungen zu werden. \nIn diesem Kurs werden wir folgende Inhalte begutachten: \nKursreihe – Teil 1 vom 18.02.2025 bis 22.04.2025 jeweils von 18:00 – 21:00 Uhr via Zoom \n5 Dienstag Abende á 3 UE – Gesamt 20 UE gesamt € 365\,00 \n\n18.02.2025: Zoomkurs 1: Entwicklungsmeilensteine und – verzögerungen im Bereich Grob- und Freinmotorik\n04.03.2025: Zoomkurs 2: Entwicklungsmeilensteine und – verzögerungen im Bereich Kognition\n18.03.2025: Zoomkurs 3: Entwicklungsmeilensteine und – verzögerungen im Bereich Sozial-Emotionale Entwicklung\n01.04.2025: Zoomkurs 4: Entwicklungsmeilensteine und – verzögerungen im Bereich Sprachentwicklung\n22.04.2025: Zoomkurs 5: Das Kind in der Betreuungseinrichtung (Schwerpunkt Kindeswohlgefährdung)\n\nMitglieder:innen der Lelek Akademie erhalten 10% Ermäßigung auf den jeweiligen Preis. \nDu möchtest nur einen der beiden Teile buchen? Dann kontaktiere unser Büro unter 0043 664 50 78 729 oder office@lelek.at \n  \n\nKursreihe – Teil 2 vom 16.09. bis 25.11.2024 von 18:00 – 21:00 Uhr via Zoom \n5 Dienstag Abende á 3 UE – Gesamt 20 UE gesamt € 365\,00 \n\n16.09.2025: Zoomkurs 1: ADHS: Aufmerksamkeitsdefizitsyndrom kennenlernen und begleiten\n07.10.2025: Zoomkurs 2: Autismus kennenlernen und begleiten\n21.10.2025: Zoomkurs 3: Sensorische Integration – Wahrnehmungsstörungen kennenlernen und begleiten\n04.11.2025: Zoomkurs 4: Bindung- und mögliche Bindungsstörungen kennenlernen und begleiten\n25.11.2025: Zoomkurs 5: Emotionale Probleme – Aggressionen\, Verhaltensänderungen\, Einkoten\, Einnässen kennenlernen und begleiten\n\nMitglieder:innen der Lelek Akademie erhalten 10% Ermäßigung auf den jeweiligen Preis. \n\nDu möchtest nur einen der beiden Teile buchen? Dann kontaktiere unser Büro unter 0043 664 50 78 729 oder office@lelek.at \nDie Trainer*in:\nBegleitet wird die Kursreihe von der Kinder- Jugend und Familienpsychologin – Mag. Christine Strableg
URL:https://lelek.at/termin/fachkraft-fuer-entwicklungsbegleitung/
LOCATION:ZOOM Onlinekurs
ATTACH;FMTTYPE=image/jpeg:https://lelek.at/wp-content/uploads/2020/06/narrative-794978_640.jpg
ORGANIZER;CN="Lelek Akademie":MAILTO:office@lelek.at
END:VEVENT
BEGIN:VEVENT
DTSTART;TZID=Europe/Vienna:20250503T000000
DTEND;TZID=Europe/Vienna:20250503T000000
DTSTAMP:20260426T061959
CREATED:20250427T102000Z
LAST-MODIFIED:20250427T102000Z
UID:2177-1746230400-1746230400@lelek.at
SUMMARY:Eingewöhnung in die Krippe - nach dem TLI Phasenmodell
DESCRIPTION:Entdecke das TLI Phasenmodell – Dein Schlüssel zu einer qualitativ hochwertigen Eingewöhnung von Kleinkindern \nGesamt 15 Unterrichtseinheiten\, € 285\,00 (inkl. Buch\, Videokurse und Zoom-Trainer:innenkurs) \nBis heute ist das Kleinkind wenig verstanden. Oft werden angepasste Kindergartenmodelle auf die Krippenbetreuung übertragen – dabei denken\, fühlen und handeln Kleinkinder vollkommen anders! Ihre Entwicklungsstufen sind einzigartig\, ihre Bindungsbiografie noch jung. \nAls pädagogische Fachkraft weißt du\, wie entscheidend die ersten Lebensjahre für die Entwicklung eines Kindes sind. \nDas TLI Phasenmodell\, welches im pädagogsichen Konzept der TLI Pedagogics® Verwendung findet\, bietet dir ein wissenschaftlich fundiertes Konzept\, um die individuellen Bedürfnisse von Krippenkindern gezielt zu verstehen und professionell durch die Eingewöhnung zu begleiten. \nWarum ist dieser Kurs für dich unverzichtbar? \n\nDas TLI Phasenmodell basiert auf aktuellen wissenschaftlichen Erkenntnissen und langjähriger Praxiserfahrung.\nEs hilft die Bindungsbiografie und Entwicklungssensitivität in der Eingewöhnung vom Kleinkind präzise zu erkennen und angemessen darauf zu reagieren.\nDurch den Kurs erwirbst du wertvolle Kompetenzen\, um:​\n\n\ndie Bindungs- und Explorationsbedürfnisse der Kinder zu identifizieren\,​ \n\n\nindividuelle Begleitschritte abzuleiten\,​ \n\n\nKleinkindern eine positive Startsituation am ersten Ort der außerhäuslichen Begleitung zu ermöglichen.\n \n\n\n\n\nKursaufbau und Inhalte: \nDer Kurs umfasst insgesamt 20 Unterrichtseinheiten und kombiniert flexibles Video-Online-Lernen mit interaktiven Live-Sitzungen. Du hast die Möglichkeit\, die Videomodule in deine eigenen Tempo zu absolvieren und das erlernte Wissen anschließend in einem Zoom-Kurs zu vertiefen.​ Optimal ist es\, wenn du die Online-Vidoeserie von 8 Unterrichtseinheiten bereits VOR dem Kurstermin via Zoom abgeschlossen hast. Der Kurs schließt mit der Zusendung einer Reflexion\, die deine persönlichen Lernerfahrungen aus dem Kurs wiedergeben. \nWichtige Termine \nZoom-Kurs: \n\n3. Mai 2025\, 09:00-13:00 Uhr via Zoom\nzusätzlich im Preis inbegriffen ist das Fachbuch (dient als Handout)  „Tatsächlich – der 1. Tag ist da.“\n\nNutze diese Gelegenheit\, um deine pädagogischen Fähigkeiten auf das nächste Level zu heben und den Kindern in Ihrer Transition die bestmögliche Unterstützung zu bieten. \nTrainerin: Begründerin und Bildungsunternehmerin Frau Marion E. Hopfgartner
URL:https://lelek.at/termin/eingewoehnung-in-die-krippe-nach-dem-tli-phasenmodell/
LOCATION:ZOOM Onlinekurs
CATEGORIES:Aufschulung NÖ,Methodisch-didaktischer Aufbau,TLI Pedagogics,Weiterbildung,Zusatzausbildung
ATTACH;FMTTYPE=image/jpeg:https://lelek.at/wp-content/uploads/2019/04/baby-724895_640.jpg
ORGANIZER;CN="Lelek Akademie":MAILTO:office@lelek.at
END:VEVENT
BEGIN:VEVENT
DTSTART;TZID=Europe/Vienna:20250512T180000
DTEND;TZID=Europe/Vienna:20250630T210000
DTSTAMP:20260426T061959
CREATED:20250111T055858Z
LAST-MODIFIED:20250311T125841Z
UID:2124-1747072800-1751317200@lelek.at
SUMMARY:Kursreihe - Inklusive Elementarpädagogik
DESCRIPTION:5 ZOOM-Kursabende. Gesamt 20 Unterrichtseinheiten. Kosten: € 365\,00 (inkl. Ust). \nInklusion in der elementarpädagogischen Bildungseinrichtung bezieht sich auf das Bestreben\, allen Kindern – unabhängig von ihren individuellen Fähigkeiten\, Herkunft\, Geschlecht oder sozialen Hintergrund – die gleichen Bildungs- und Entwicklungschancen zu bieten. Das Ziel der Inklusion ist es\, eine gemeinschaftliche Erziehung zu fördern\, in der jedes Kind\, auch Kinder mit besonderen Bedürfnissen (z. B. Kinder mit Behinderungen\, Lernschwierigkeiten oder anderen gesundheitlichen Herausforderungen)\, aktiv am Alltag und den Lernprozessen teilhaben kann. \nWesentliche Aspekte der Inklusion im Kindergarten sind \n\nGleichberechtigung und Chancengleichheit\nIndividuelle Förderung\nVielfalt als Bereicherung\nKooperation (Kinder\, Eltern\, Fachkräfte)\n\nAngepasste Lernumgebungen und Materialien\n\nund die Förderung eines Soziales Miteinander\n\nPraxisnahe Fortbildung zur inklusiven Pädagogik\nIm Lehrgang/In der Kursreihe werden die Grundlagen inklusiver Bildungsarbeit kennengelernt und deren praktische Umsetzung besprochen. Ebenso erfolgt ein Transfer in den aktuell bestehenden pädagogischen Alltag mit dem Ziel\, sich auf dieser Basis Schritt für Schritt zu einer vollständig inklusiven elementarpädagogischen Bildungseinrichtung zu entwickeln. \nFür eine gerechtere Gesellschaft\nInklusion im Kindergarten ist mehr als nur Integration – sie ist ein Bekenntnis zu Akzeptanz und Wertschätzung aller Unterschiede\, seien sie kulturell\, sprachlich oder sozial. Gemeinsam schaffen wir einen Ort\, an dem jedes Kind seinen Platz findet und die Basis für eine gerechte und vielfältige Gesellschaft gelegt wird. \nDie Module im Lehrgang: \n Kursabend 1 – 12.05.2025 von 18:00 – 21:00 Uhr via Zoom \nGrundlagen inklusiver Bildungsarbeit \n\nBegriffsklärung: Exklusion\, Segregation\, Integration\, Inklusion\nBedeutung inklusiver Pädagogik\nWer ist ein Inklusionskind?\nInklusive Pädagogik & Teilhabe\nVoraussetzungen für inklusives Arbeiten in der elementarpädagogischen Bildungseinrichtung\n\n  \nKursabend 2 – 19.05.2025 von 18:00 – 21:00 Uhr via Zoom \nGrundlagen für das Schaffen einer inklusiven elementarpädagogischen Bildungseinrichtung \n\nWertvorstellungen & Haltung der Teammitglieder\nnotwendige strukturelle Voraussetzungen (Räume\, Personal\, Betreuungsschlüssel\, Arbeitszeit\, Bezahlung)\nAnpassung des pädagogischen Konzepts\nDimensionen der Planung und Umsetzbarkeit lt. Index der Inklusion\nEbenen der Inklusionsentwicklung\n\n  \nKursabend 3 – 02.06.2025 von 18:00 – 21:00 Uhr via Zoom \nPraktische Umsetzung inklusiver Bildungsarbeit 1 \n\nSchritte zu einer inklusiven Bildungseinrichtung\nbedürfnisorientiertes Arbeiten mit allen Kindern\nAufbau eines multiprofessionellen Teams\nPraxis des inklusiven Spielens & Lernens 1\n\n  \nKursabend 4 – 16.06.2025 von 18:00 – 21:00 Uhr via Zoom \nPraktische Umsetzung inklusiver Bildungsarbeit 2 \n\ninklusive Einrichtungskonzeption\nVernetzung mit dem Umfeld\nSetzen und Evaluieren von Qualitätsstandards\nPraxis des inklusiven Spielens & Lernens 2\n\n  \nKursabend 5 – 30.06.2025 von 18:00 – 21:00 Uhr via Zoom \nÜbergänge zur inklusiven Bildungseinrichtung \n\nAufbau eines multiprofessionellen Netzwerkes\nSchaffen von inklusiven Beuwusstseins und inklusiver Haltung in der Einrichtung (Team\, Kinder)\nKooperation mit Eltern\n\nTransition inklusive elementarpädagogische Bildungseinrichtung – Schule
URL:https://lelek.at/termin/kursreihe-inklusive-elementarpaedagogik/
LOCATION:ZOOM Onlinekurs
ATTACH;FMTTYPE=image/jpeg:https://lelek.at/wp-content/uploads/2025/01/Copy-of-Copy-of-Copy-of-Cream-Elegant-New-Arrival-Instagram-Post.jpg
ORGANIZER;CN="Lelek Akademie":MAILTO:office@lelek.at
END:VEVENT
END:VCALENDAR