BEGIN:VCALENDAR
VERSION:2.0
PRODID:-//Lelek Akademie - ECPv6.15.20//NONSGML v1.0//EN
CALSCALE:GREGORIAN
METHOD:PUBLISH
X-ORIGINAL-URL:https://lelek.at
X-WR-CALDESC:Veranstaltungen für Lelek Akademie
REFRESH-INTERVAL;VALUE=DURATION:PT1H
X-Robots-Tag:noindex
X-PUBLISHED-TTL:PT1H
BEGIN:VTIMEZONE
TZID:Europe/Vienna
BEGIN:DAYLIGHT
TZOFFSETFROM:+0100
TZOFFSETTO:+0200
TZNAME:CEST
DTSTART:20240331T010000
END:DAYLIGHT
BEGIN:STANDARD
TZOFFSETFROM:+0200
TZOFFSETTO:+0100
TZNAME:CET
DTSTART:20241027T010000
END:STANDARD
BEGIN:DAYLIGHT
TZOFFSETFROM:+0100
TZOFFSETTO:+0200
TZNAME:CEST
DTSTART:20250330T010000
END:DAYLIGHT
BEGIN:STANDARD
TZOFFSETFROM:+0200
TZOFFSETTO:+0100
TZNAME:CET
DTSTART:20251026T010000
END:STANDARD
BEGIN:DAYLIGHT
TZOFFSETFROM:+0100
TZOFFSETTO:+0200
TZNAME:CEST
DTSTART:20260329T010000
END:DAYLIGHT
BEGIN:STANDARD
TZOFFSETFROM:+0200
TZOFFSETTO:+0100
TZNAME:CET
DTSTART:20261025T010000
END:STANDARD
END:VTIMEZONE
BEGIN:VEVENT
DTSTART;TZID=Europe/Vienna:20250218T080000
DTEND;TZID=Europe/Vienna:20250422T170000
DTSTAMP:20260426T044523
CREATED:20250111T062932Z
LAST-MODIFIED:20250111T063643Z
UID:2136-1739865600-1745341200@lelek.at
SUMMARY:Kursreihe - Fachkraft Entwicklungbegleitung - Teil 1
DESCRIPTION:5 Zoomabende – Gesamt 20 Unterrichtseinheiten – Kosten € 365\,00.\nStehst du manchmal an deinen Grenzen? Bist du dir nicht sicher\, ob die Entwicklung eines Kindes mehr Inputs von dir braucht? Fragst du dich\, wie du gute Gespräche mit Erziehungsberechtigte/Eltern zum Thema Entwicklung führst? Hast du manchmal das Gefühl\, dass viele Kinder mit Diagnosen von Autismus\, ADHS\, sensorische Störungen kommen und fragst du dich\, wie die die Entwicklung der Kinder gut begleiten kannst?\nDann ist diese Kursreihe die richtige für dich\, denn diese Kursreihe setzt sich mit den Entwicklungseckpfeilern\, Entwicklungsherausforderungen und möglichen Graubereichen im Entwicklungsbereich auseinander. \nFür welche Menschen ist die Weiterbildung empfehlenswert:\nElementarpädagog*innen\, Kindergruppenbetreuungspersonen\, Betreuer:innen in TBE\, Kinderbildungseinrichtungen\, Erzieher:innen\, Krippenpädagog:innen\, Tagesmütter\, Tagesväter und alle anderen Interessierten\, die sich für den Bereich Entwicklung- und Entwicklungsstörung interessieren. \nInhalt: \nDer Schwerpunkt dieser Weiterbildungs-Kursreihe liegt darin\, pädagogischen Fachkräften Instrumente an die Hand zu geben\, wie sie in verschiedenen Situationen entwicklungssensitiv reagieren und die Entwicklung von Kindern wo notwendig fördern können. Es wird in der Kursreihe darauf geachtet\, dass Grundlagenwissen über die Entwicklung und momentan gängige Entwicklungsstörungen bekannt sind\, Methoden zur Begleitung durch weitergegeben werden und Austausch zu aktuellen Situationen in den elementaren Bildungseinrichtungen besprochen werden. \nDie Kursreihe ersetzt nicht den Weg zur Kinderspychologin\, dem Diagnostikzentrum oder den Beginn von notwendigen Therapien und Eltern sollten angehalten werden\, hier auch wichtige Schritte umzusetzen. Die Kursreihe unterstützt das pädagogische Personal in der Einrichtung dabei sensibel auf mögliche Thematiken zu werden\, aber auch Sicherheit im Umgang mit den alltäglichen Situationen in KiGa\, KiTa\, KiGru\, TBE und anderen Bildungseinrichtungen zu werden. \nIn diesem Kurs werden wir folgende Inhalte begutachten: \nKursreihe – Teil 1 vom 18.02.2025 bis 22.04.2025 jeweils von 18:00 – 21:00 Uhr via Zoom \n5 Dienstag Abende á 3 UE – Gesamt 20 UE gesamt € 365\,00 \n\n18.02.2025: Zoomkurs 1: Entwicklungsmeilensteine und – verzögerungen im Bereich Grob- und Freinmotorik\n04.03.2025: Zoomkurs 2: Entwicklungsmeilensteine und – verzögerungen im Bereich Kognition\n18.03.2025: Zoomkurs 3: Entwicklungsmeilensteine und – verzögerungen im Bereich Sozial-Emotionale Entwicklung\n01.04.2025: Zoomkurs 4: Entwicklungsmeilensteine und – verzögerungen im Bereich Sprachentwicklung\n22.04.2025: Zoomkurs 5: Das Kind in der Betreuungseinrichtung (Schwerpunkt Kindeswohlgefährdung)\n\nMitglieder:innen der Lelek Akademie erhalten 10% Ermäßigung auf den jeweiligen Preis. \nDu möchtest nur einen der beiden Teile buchen? Dann kontaktiere unser Büro unter 0043 664 50 78 729 oder office@lelek.at \n\n\nDie Trainer*in:\nBegleitet wird die Kursreihe von der Kinder- Jugend und Familienpsychologin – Mag. Christine Strableg
URL:https://lelek.at/termin/fachkraft-entwicklungbegleitung-teil-1/
LOCATION:ZOOM Onlinekurs
CATEGORIES:Entwicklungspsychologie,Weiterbildung
ATTACH;FMTTYPE=image/jpeg:https://lelek.at/wp-content/uploads/2020/06/narrative-794978_640.jpg
ORGANIZER;CN="Lelek Akademie":MAILTO:office@lelek.at
END:VEVENT
BEGIN:VEVENT
DTSTART;TZID=Europe/Vienna:20250218T180000
DTEND;TZID=Europe/Vienna:20250422T210000
DTSTAMP:20260426T044523
CREATED:20251215T154226Z
LAST-MODIFIED:20251228T191923Z
UID:2296-1739901600-1745355600@lelek.at
SUMMARY:Fachkraft für Entwicklungsbegleitung - Teil 1
DESCRIPTION:5 Dienstag Abende\, jeweils 18:00 – 21:00 Uhr\, Gesamt 20 Unterrichtseinheiten. € 402\,00 (Interesse an der Buchung von Teil 1 und Teil 2 in Kombination. Hier gibt es einen 15% Rabatt).\nDieser Teil setzt sich mit den Entwicklungseckpfeilern und möglichen Graubereichen im Entwicklungsbereich auseinander.\nDu siehst es in deinen Entwicklungsbeobachtungen – da ist etwas nicht ganz im Lot. Aber … bei der Diagnostik kommt es zu keinen Ergebebnis. Kann es sein\, dass du dich irrst? Hast du die Entwicklungsmeilensteine noch nicht gefestigt\, oder ist die Entwicklungsdiagnostik einfach nicht aussagekräftig. Immer wieder kommt es im Laufe der Entwicklung eines Kindes zu Unstimmigkeiten und die große Frage\, die wir uns dann stellen: „Muss ich hier schon aktiv werden\, oder kann ich Beobachtende/r bleiben?“ Um diese Frage richtig zu beantworten\, musst du nicht nur auf dei Meilensteine der Entwicklung\, sondern aur die Zwischentöne sehen und das lernen wir in der Basisausbildung nur selten. Mag. Christine Strableg macht nun schon seit mehr als 20 Jahren Entwicklungsdiagnostik und wird dich in dieser Kursreihe auf die Zwischenbereiche\, die entspannt beobachtet werden können und jene\, wo wir aktiv wirken sollten – aufmerksam machen.\nEin MUSS für jede/n Pädagog:i! \nFür welche Menschen ist die Weiterbildung empfehlenswert:\nElementarpädagog*innen\, Kindergruppenbetreuungspersonen\, Betreuer:innen in TBE\, Kinderbildungseinrichtungen\, Erzieher:innen\, Krippenpädagog:innen\, Tagesmütter\, Tagesväter und alle anderen Interessierten\, die sich für den Bereich Entwicklung- und Entwicklungsstörung interessieren. \nInhalt: \nDer Schwerpunkt dieser Weiterbildungs-Kursreihe liegt darin\, pädagogischen Fachkräften Instrumente an die Hand zu geben\, wie sie in verschiedenen Situationen entwicklungssensitiv reagieren und die Entwicklung von Kindern wo notwendig fördern können. Es wird in der Kursreihe darauf geachtet\, dass Grundlagenwissen über die Entwicklung und momentan gängige Entwicklungsstörungen bekannt sind\, Methoden zur Begleitung durch weitergegeben werden und Austausch zu aktuellen Situationen in den elementaren Bildungseinrichtungen besprochen werden. \nDie Kursreihe ersetzt nicht den Weg zur Kinderspychologin\, dem Diagnostikzentrum oder den Beginn von notwendigen Therapien und Eltern sollten angehalten werden\, hier auch wichtige Schritte umzusetzen. Die Kursreihe unterstützt das pädagogische Personal in der Einrichtung dabei sensibel auf mögliche Thematiken zu werden\, aber auch Sicherheit im Umgang mit den alltäglichen Situationen in KiGa\, KiTa\, KiGru\, TBE und anderen Bildungseinrichtungen zu werden. \nIn diesem Kurs werden wir folgende Inhalte begutachten: \nKursreihe – Teil 1 vom 17.02.2026 bis 21.04.2026 jeweils von 18:00 – 21:00 Uhr via Zoom \n5 Dienstag-Abende  – Gesamt 20 UE\, Gesamt € 402\,00 \n\n17.02.2026: Zoomkurs 1: Entwicklungsmeilensteine und – verzögerungen im Bereich Grob- und Freinmotorik\n03.03.2026: Zoomkurs 2: Entwicklungsmeilensteine und – verzögerungen im Bereich Kognition\n24.03.2026: Zoomkurs 3: Entwicklungsmeilensteine und – verzögerungen im Bereich Sozial-Emotionale Entwicklung\n07.04.2026: Zoomkurs 4: Entwicklungsmeilensteine und – verzögerungen im Bereich Sprachentwicklung\n21.04.2026: Zoomkurs 5: Das Kind in der Betreuungseinrichtung (Schwerpunkt Kindeswohlgefährdung)\n\nMitglieder:innen der Lelek Akademie erhalten 10% Ermäßigung auf den jeweiligen Preis. \nDu möchtest nur einen der beiden Teile buchen? Dann kontaktiere unser Büro unter 0043 664 50 78 729 oder office@lelek.at \nDie Trainer*in:\nBegleitet wird die Kursreihe von der Kinder- Jugend und Familienpsychologin Christine Strableg
URL:https://lelek.at/termin/fachkraft-fuer-entwicklungsbegleitung-teil-1-2/
LOCATION:ZOOM Onlinekurs
CATEGORIES:Entwicklungspsychologie,Weiterbildung,Zusatzausbildung
ATTACH;FMTTYPE=image/jpeg:https://lelek.at/wp-content/uploads/2020/06/narrative-794978_640.jpg
ORGANIZER;CN="Lelek Akademie":MAILTO:office@lelek.at
END:VEVENT
BEGIN:VEVENT
DTSTART;TZID=Europe/Vienna:20250218T180000
DTEND;TZID=Europe/Vienna:20251125T210000
DTSTAMP:20260426T044523
CREATED:20250111T052545Z
LAST-MODIFIED:20250111T063553Z
UID:2117-1739901600-1764104400@lelek.at
SUMMARY:Kursreihe - Fachkraft für Entwicklungsbegleitung
DESCRIPTION:1o Zoomabende bestehend aus 2 Teilen – 40 Unterrichtseinheiten. Kosten € 699\,00\nStehst du manchmal an deinen Grenzen? Bist du dir nicht sicher\, ob die Entwicklung eines Kindes mehr Inputs von dir braucht? Fragst du dich\, wie du gute Gespräche mit Erziehungsberechtigte/Eltern zum Thema Entwicklung führst? Hast du manchmal das Gefühl\, dass viele Kinder mit Diagnosen von Autismus\, ADHS\, sensorische Störungen kommen und fragst du dich\, wie die die Entwicklung der Kinder gut begleiten kannst?\nDann ist diese Kursreihe die richtige für dich\, denn diese Kursreihe setzt sich mit den Entwicklungseckpfeilern\, Entwicklungsherausforderungen und möglichen Graubereichen im Entwicklungsbereich auseinander. \nFür welche Menschen ist die Weiterbildung empfehlenswert:\nElementarpädagog*innen\, Kindergruppenbetreuungspersonen\, Betreuer:innen in TBE\, Kinderbildungseinrichtungen\, Erzieher:innen\, Krippenpädagog:innen\, Tagesmütter\, Tagesväter und alle anderen Interessierten\, die sich für den Bereich Entwicklung- und Entwicklungsstörung interessieren. \nInhalt: \nDer Schwerpunkt dieser Weiterbildungs-Kursreihe liegt darin\, pädagogischen Fachkräften Instrumente an die Hand zu geben\, wie sie in verschiedenen Situationen entwicklungssensitiv reagieren und die Entwicklung von Kindern wo notwendig fördern können. Es wird in der Kursreihe darauf geachtet\, dass Grundlagenwissen über die Entwicklung und momentan gängige Entwicklungsstörungen bekannt sind\, Methoden zur Begleitung durch weitergegeben werden und Austausch zu aktuellen Situationen in den elementaren Bildungseinrichtungen besprochen werden. \nDie Kursreihe ersetzt nicht den Weg zur Kinderspychologin\, dem Diagnostikzentrum oder den Beginn von notwendigen Therapien und Eltern sollten angehalten werden\, hier auch wichtige Schritte umzusetzen. Die Kursreihe unterstützt das pädagogische Personal in der Einrichtung dabei sensibel auf mögliche Thematiken zu werden\, aber auch Sicherheit im Umgang mit den alltäglichen Situationen in KiGa\, KiTa\, KiGru\, TBE und anderen Bildungseinrichtungen zu werden. \nIn diesem Kurs werden wir folgende Inhalte begutachten: \nKursreihe – Teil 1 vom 18.02.2025 bis 22.04.2025 jeweils von 18:00 – 21:00 Uhr via Zoom \n5 Dienstag Abende á 3 UE – Gesamt 20 UE gesamt € 365\,00 \n\n18.02.2025: Zoomkurs 1: Entwicklungsmeilensteine und – verzögerungen im Bereich Grob- und Freinmotorik\n04.03.2025: Zoomkurs 2: Entwicklungsmeilensteine und – verzögerungen im Bereich Kognition\n18.03.2025: Zoomkurs 3: Entwicklungsmeilensteine und – verzögerungen im Bereich Sozial-Emotionale Entwicklung\n01.04.2025: Zoomkurs 4: Entwicklungsmeilensteine und – verzögerungen im Bereich Sprachentwicklung\n22.04.2025: Zoomkurs 5: Das Kind in der Betreuungseinrichtung (Schwerpunkt Kindeswohlgefährdung)\n\nMitglieder:innen der Lelek Akademie erhalten 10% Ermäßigung auf den jeweiligen Preis. \nDu möchtest nur einen der beiden Teile buchen? Dann kontaktiere unser Büro unter 0043 664 50 78 729 oder office@lelek.at \n  \n\nKursreihe – Teil 2 vom 16.09. bis 25.11.2024 von 18:00 – 21:00 Uhr via Zoom \n5 Dienstag Abende á 3 UE – Gesamt 20 UE gesamt € 365\,00 \n\n16.09.2025: Zoomkurs 1: ADHS: Aufmerksamkeitsdefizitsyndrom kennenlernen und begleiten\n07.10.2025: Zoomkurs 2: Autismus kennenlernen und begleiten\n21.10.2025: Zoomkurs 3: Sensorische Integration – Wahrnehmungsstörungen kennenlernen und begleiten\n04.11.2025: Zoomkurs 4: Bindung- und mögliche Bindungsstörungen kennenlernen und begleiten\n25.11.2025: Zoomkurs 5: Emotionale Probleme – Aggressionen\, Verhaltensänderungen\, Einkoten\, Einnässen kennenlernen und begleiten\n\nMitglieder:innen der Lelek Akademie erhalten 10% Ermäßigung auf den jeweiligen Preis. \n\nDu möchtest nur einen der beiden Teile buchen? Dann kontaktiere unser Büro unter 0043 664 50 78 729 oder office@lelek.at \nDie Trainer*in:\nBegleitet wird die Kursreihe von der Kinder- Jugend und Familienpsychologin – Mag. Christine Strableg
URL:https://lelek.at/termin/fachkraft-fuer-entwicklungsbegleitung/
LOCATION:ZOOM Onlinekurs
ATTACH;FMTTYPE=image/jpeg:https://lelek.at/wp-content/uploads/2020/06/narrative-794978_640.jpg
ORGANIZER;CN="Lelek Akademie":MAILTO:office@lelek.at
END:VEVENT
BEGIN:VEVENT
DTSTART;TZID=Europe/Vienna:20250227T180000
DTEND;TZID=Europe/Vienna:20250327T210000
DTSTAMP:20260426T044523
CREATED:20250111T062355Z
LAST-MODIFIED:20250203T133050Z
UID:2127-1740679200-1743109200@lelek.at
SUMMARY:Kursreihe - Elternarbeit in Zeiten des Wandes
DESCRIPTION:5 Zoomabende – gesamt 20 Unterrichtseinheiten \nGemeinsam für starke Bildungspartner:innenschaft\nDie Zusammenarbeit mit Eltern ist heute anspruchsvoller denn je. Globalisierung\, vielfältige Familienstrukturen und unterschiedliche Kulturen\, Sprachen und Erziehungskonzepte stellen elementarpädagogische Fachkräfte vor neue Herausforderungen. Gleichzeitig ist es essenziell\, Eltern als Bildungspartner*innen zu gewinnen\, um die bestmögliche Entwicklung der Kinder zu fördern. \nDiese Kursreihe ist Ihr Schlüssel zu einer gelingenden Elternarbeit!\nLernen Sie praxisorientierte und innovative Methoden kennen\, um: \n\nEltern zur aktiven Bildungspartnerschaft einzuladen: Entwickeln Sie Strategien\, um Vertrauen aufzubauen und eine wertvolle Zusammenarbeit zu fördern.\nKonflikte sicher und lösungsorientiert zu meistern: Reagieren Sie souverän auf unterschiedliche Sichtweisen und finden Sie gemeinsame Wege.\nEltern in ihrer Erziehungsrolle zu unterstützen: Bieten Sie fundierte und einfühlsame Hilfestellung\, die Eltern stärkt und entlastet.\nKreative Dialoge zu führen: Erarbeiten Sie inspirierende Ansätze für respektvolle und erfolgreiche Kommunikation.\n\nFür wen ist die Kursreihe geeignet?\nDiese Fortbildung richtet sich an elementarpädagogische Fachkräfte\, die ihre Kompetenzen in der Elternarbeit erweitern und ihren Berufsalltag bereichern möchten. \nIn dieser Kursreihe werden wir folgende Inhalte begutachten: \nTermine vom 27.02.2025 bis 27.03.2025 jeweils von 18:00 – 21:00 Uhr via Zoom \n5 Donnerstage Abende á 3 UE – Gesamt 20 UE gesamt € 365\,00 \n\n27.02.2025: Zoomkurs 1: Die Pädagog:in als Impulsgeberin in der Elternarbeit\n6.03.2025: Zoomkurs 2: Rahmen setzen\, Freiheit ermöglichen – wie wir Eltern zu einer balancierten Erziehung motivieren\n13.03.2025: Zoomkurs 3: Entwicklungsgespräche\, die bewegen\n20.03.2025: Zoomkurs 4: Kommunikation – Skills für den Alltag mit Eltern\n27.03.2025: Zoomkurs 5: Konflikte mit Eltern als Chance – Umgang mir schwierigen Situationen\n\nMelden Sie sich jetzt an und gestalten Sie die Elternarbeit der Zukunft!\nGemeinsam legen wir den Grundstein für eine wertschätzende Zusammenarbeit\, die Kinder\, Eltern und Fachkräfte gleichermaßen stärkt. \nMitglieder:innen der Lelek Akademie erhalten 10% Ermäßigung auf den jeweiligen Preis. \nDu möchtest nur einen der beiden Teile buchen? Dann kontaktiere unser Büro unter 0043 664 50 78 729 oder office@lelek.at \nDie Trainer*in:\nBegleitet wird die Kursreihe von der Eltern- und Familienberaterin – Claudia Toth\, BSc.
URL:https://lelek.at/termin/kursreihe-elternarbeit-in-zeiten-des-wandes/
LOCATION:ZOOM Onlinekurs
ATTACH;FMTTYPE=image/png:https://lelek.at/wp-content/uploads/2019/03/IMG_8216.png
ORGANIZER;CN="Lelek Akademie":MAILTO:office@lelek.at
END:VEVENT
END:VCALENDAR